BEGIN:VCALENDAR
VERSION:2.0
CALSCALE:GREGORIAN
METHOD:REQUEST
PRODID:Marquette Savings Bank
BEGIN:VEVENT
UID: 27879469e82d71d27f5@
SUMMARY:Insurance- Not a Barrier to Retirement
DTSTAMP:20260421T220745
DTSTART:20250821T173000
DTEND:20250821T183000
LOCATION:
DESCRIPTION:You&#039;re ready to retire but are scared because you don&#039;t know your insurance options. During this session you will hear from Greg Deemer, CLU©, ChFC©, and Matt Simon, CERTIFIED FINANCIAL PLANNER™, from Bayfront Benefit Solutions Inc. to learn what your Medicare and open enrollment options are. 
STATUS:CONFIRMED
SEQUENCE:3
END:VEVENT
END:VCALENDAR