BEGIN:VCALENDAR
VERSION:2.0
CALSCALE:GREGORIAN
METHOD:REQUEST
PRODID:Marquette Savings Bank
BEGIN:VEVENT
UID: 31079869e82f3d68554@
SUMMARY:Fraud- Recent Trends, What You Need to Know
DTSTAMP:20260421T221525
DTSTART:20250813T120500
DTEND:20250813T130000
LOCATION:
DESCRIPTION:The best way to protect yourself from fraud is to learn how scams work. Participants will learn how to spot a scam and stop it from happening. This class includes lunch only if attending in person at Marquette&#039;s ILC (930 Peach Street).
STATUS:CONFIRMED
SEQUENCE:3
END:VEVENT
END:VCALENDAR