BEGIN:VCALENDAR
VERSION:2.0
CALSCALE:GREGORIAN
METHOD:REQUEST
PRODID:Marquette Savings Bank
BEGIN:VEVENT
UID: 23337069e7ea0eeaf68@
SUMMARY:Estate Planning- Last Will And Testament
DTSTAMP:20260421T172014
DTSTART:20250515T170000
DTEND:20250515T180000
LOCATION:
DESCRIPTION:Learn about the importance of Estate Planning and why you should have a Last Will from experts Eugene C. Sundberg, Jr., Esq. from Marsh Schaaf, LLP and Nicole Mello from Marquette.
STATUS:CONFIRMED
SEQUENCE:3
END:VEVENT
END:VCALENDAR