BEGIN:VCALENDAR
VERSION:2.0
CALSCALE:GREGORIAN
METHOD:REQUEST
PRODID:Marquette Savings Bank
BEGIN:VEVENT
UID: 26567169e7bb0550c8e@
SUMMARY:What to Know about Long Term Care
DTSTAMP:20260421T135933
DTSTART:20250304T173000
DTEND:20250304T183000
LOCATION:
DESCRIPTION:Learn from the experts about levels of care and options in senior living and long term nursing care. Join us for Q and A about being prepared to make informed decisions for yourself and your older loved ones.
STATUS:CONFIRMED
SEQUENCE:3
END:VEVENT
END:VCALENDAR