BEGIN:VCALENDAR
VERSION:2.0
CALSCALE:GREGORIAN
METHOD:REQUEST
PRODID:Marquette Savings Bank
BEGIN:VEVENT
UID: 34881169e7d38cd3ef4@
SUMMARY:Fraud- Recent Trends, What You Need to Know
DTSTAMP:20260421T154412
DTSTART:20250212T120500
DTEND:20250212T130000
LOCATION:
DESCRIPTION:The best way to protect yourself from fraud is to learn how scams work. Participants will learn how to spot a scam and stop it from happening. This class includes lunch only if attending in person at Marquette&#039;s ILC.
STATUS:CONFIRMED
SEQUENCE:3
END:VEVENT
END:VCALENDAR